BEGIN:VCALENDAR
VERSION:2.0
PRODID:-//Fielder Marketing Blog - ECPv5.9.0//NONSGML v1.0//EN
CALSCALE:GREGORIAN
METHOD:PUBLISH
X-WR-CALNAME:Fielder Marketing Blog
X-ORIGINAL-URL:http://fieldermarketing.com/blog
X-WR-CALDESC:Events for Fielder Marketing Blog
BEGIN:VTIMEZONE
TZID:America/Los_Angeles
BEGIN:DAYLIGHT
TZOFFSETFROM:-0800
TZOFFSETTO:-0700
TZNAME:PDT
DTSTART:20200308T100000
END:DAYLIGHT
BEGIN:STANDARD
TZOFFSETFROM:-0700
TZOFFSETTO:-0800
TZNAME:PST
DTSTART:20201101T090000
END:STANDARD
END:VTIMEZONE
BEGIN:VEVENT
DTSTART;VALUE=DATE:20200707
DTEND;VALUE=DATE:20200714
DTSTAMP:20260423T033501
CREATED:20200701T180401Z
LAST-MODIFIED:20210421T195444Z
UID:683-1594080000-1594684799@fieldermarketing.com
SUMMARY:B&W Custom Installation 700 Series
DESCRIPTION:Instructions:\n•    Log into the University at www.bwgroupusa.com\n•    Search for the word SUMMER\n•    Watch the course video and pass the quiz \nIf you are not already signed up for University\, register here. \nPrerequisite: CI 300/Marine/CI 600 \nTraining modules are video-based\, so no slides to scroll through\, and they are less than 30 minutes long. \nAfter passing a quick quiz\, you will be entered into a weekly drawing for some pretty amazing prizes! As the prizes get better each week\, you will need to complete the prerequisites from the previous weeks to be entered. Have a busy week? Don’t worry\, you can catch up! \nDrawing to win a Formation Flex!
URL:http://fieldermarketing.com/blog/event/bw-custom-installation-700-series/
LOCATION:CA
CATEGORIES:Training
END:VEVENT
END:VCALENDAR