BEGIN:VCALENDAR
VERSION:2.0
PRODID:-//Fielder Marketing Blog - ECPv5.9.0//NONSGML v1.0//EN
CALSCALE:GREGORIAN
METHOD:PUBLISH
X-WR-CALNAME:Fielder Marketing Blog
X-ORIGINAL-URL:http://fieldermarketing.com/blog
X-WR-CALDESC:Events for Fielder Marketing Blog
BEGIN:VTIMEZONE
TZID:America/Los_Angeles
BEGIN:DAYLIGHT
TZOFFSETFROM:-0800
TZOFFSETTO:-0700
TZNAME:PDT
DTSTART:20200308T100000
END:DAYLIGHT
BEGIN:STANDARD
TZOFFSETFROM:-0700
TZOFFSETTO:-0800
TZNAME:PST
DTSTART:20201101T090000
END:STANDARD
TZID:America/New_York
BEGIN:DAYLIGHT
TZOFFSETFROM:-0500
TZOFFSETTO:-0400
TZNAME:EDT
DTSTART:20200308T070000
END:DAYLIGHT
BEGIN:STANDARD
TZOFFSETFROM:-0400
TZOFFSETTO:-0500
TZNAME:EST
DTSTART:20201101T060000
END:STANDARD
END:VTIMEZONE
BEGIN:VEVENT
DTSTART;TZID=America/Los_Angeles:20200519T080000
DTEND;TZID=America/Los_Angeles:20200519T090000
DTSTAMP:20260423T094847
CREATED:20200513T200831Z
LAST-MODIFIED:20210421T202458Z
UID:403-1589875200-1589878800@fieldermarketing.com
SUMMARY:SurgeX CTS Training: Building a Strong AC Power Foundation for your AV System
DESCRIPTION:Integrators can take SurgeX’s AVIXA course\, “Building a Strong AC Power Foundation for your AV System\,” at 11 a.m. ET each week for CTS credit.
URL:http://fieldermarketing.com/blog/event/surgex-cts-training-building-a-strong-ac-power-foundation-for-your-av-system/
LOCATION:CA
CATEGORIES:Training
END:VEVENT
BEGIN:VEVENT
DTSTART;TZID=America/Los_Angeles:20200519T110000
DTEND;TZID=America/Los_Angeles:20200519T120000
DTSTAMP:20260423T094847
CREATED:20200513T200444Z
LAST-MODIFIED:20210421T202447Z
UID:390-1589886000-1589889600@fieldermarketing.com
SUMMARY:SurgeX CEDIA Training: How power can derail your system and impede performance
DESCRIPTION:Residential dealers can join the CEDIA course on Tuesdays at 2 p.m. ET for CEU credits\, learning “How power can derail your system and impede performance.”
URL:http://fieldermarketing.com/blog/event/surgex-cedia-training-how-power-can-derail-your-system-and-impede-performance/
LOCATION:CA
CATEGORIES:Training
END:VEVENT
BEGIN:VEVENT
DTSTART;TZID=America/New_York:20200519T140000
DTEND;TZID=America/New_York:20200519T150000
DTSTAMP:20260423T094847
CREATED:20200429T215248Z
LAST-MODIFIED:20210421T195520Z
UID:91-1589896800-1589900400@fieldermarketing.com
SUMMARY:B&W Custom Installation Overview
DESCRIPTION:In this course\, we will review the entire line of Bowers & Wilkins CI products\, how the design and technology tie-in with our free-standing speaker models\, and best practices for installation and set up.Presented by Kathleen Thomas \n\nJoin Class
URL:http://fieldermarketing.com/blog/event/custom-installation-overview-2/
LOCATION:CA
CATEGORIES:Training
END:VEVENT
END:VCALENDAR