BEGIN:VCALENDAR
VERSION:2.0
PRODID:-//Fielder Marketing Blog - ECPv5.9.0//NONSGML v1.0//EN
CALSCALE:GREGORIAN
METHOD:PUBLISH
X-WR-CALNAME:Fielder Marketing Blog
X-ORIGINAL-URL:http://fieldermarketing.com/blog
X-WR-CALDESC:Events for Fielder Marketing Blog
BEGIN:VTIMEZONE
TZID:America/Los_Angeles
BEGIN:DAYLIGHT
TZOFFSETFROM:-0800
TZOFFSETTO:-0700
TZNAME:PDT
DTSTART:20210314T100000
END:DAYLIGHT
BEGIN:STANDARD
TZOFFSETFROM:-0700
TZOFFSETTO:-0800
TZNAME:PST
DTSTART:20211107T090000
END:STANDARD
END:VTIMEZONE
BEGIN:VEVENT
DTSTART;VALUE=DATE:20210405
DTEND;VALUE=DATE:20210407
DTSTAMP:20260425T150526
CREATED:20210331T183601Z
LAST-MODIFIED:20210421T202138Z
UID:947-1617580800-1617753599@fieldermarketing.com
SUMMARY:HTSA 2021 Virtual Spring Conference: Ahead of the Curve
DESCRIPTION:The 2021 HTSA Virtual Spring Conference is almost here! With a renewed focus on making member-to-member and member-to-vendor connections\, this conference will be unlike any you’ve attended so far. From key vendor presentations to panel discussions with experts from within and beyond the CI industry\, this event is guaranteed to help you stay “Ahead of the Curve” in the year to come. Get yourself and your team registered ASAP\, and prepare to join in the best virtual conference in the industry. HTSA and you\, “Ahead of the Curve” in 2021 and beyond. \nThis is a not-to-miss event!
URL:http://fieldermarketing.com/blog/event/htsa-2021-virtual-spring-conference-ahead-of-the-curve/
END:VEVENT
END:VCALENDAR